BEGIN:VCALENDAR
VERSION:2.0
PRODID:-//Squarespace Inc/Squarespace 6//v6//EN
BEGIN:VEVENT
UID:582bee2febbd1aa5bc8bdc8c@squarespace.com
DTSTAMP:20161125T012939Z
DTSTART:20161209T210000Z
DTEND:20161209T223000Z
SUMMARY:COMMUNITY DEVELOPMENT - INITIAL ENGAGEMENT MEETING
GEO:-28.513427;151.461027
LOCATION:Terrica Woolshed\, 500 Terrica Road\, Terrica\, QLD\, 4387\, Austr
 alia
END:VEVENT
END:VCALENDAR
