BEGIN:VCALENDAR
VERSION:2.0
PRODID:-//Squarespace Inc/Squarespace 6//v6//EN
BEGIN:VEVENT
UID:56fe3dc162cd94566a7aa221@squarespace.com
DTSTAMP:20160403T000833Z
DTSTART:20150607T130000Z
DTEND:20150607T210000Z
SUMMARY:Art in the Woolshed 2015
GEO:-28.707969;151.712002
LOCATION:Bendee Woolshed\, LOT 24 Springdale Rd\, Pikedale\, QLD\, 4380\, A
 ustralia
END:VEVENT
END:VCALENDAR
