BEGIN:VCALENDAR
VERSION:2.0
PRODID:-//Squarespace Inc/Squarespace 6//v6//EN
BEGIN:VEVENT
UID:56fe370cd51cd4569531a914@squarespace.com
DTSTAMP:20160403T000848Z
DTSTART:20150401T130000Z
DTEND:20150401T200000Z
SUMMARY:Lamb Finishing Workshop
GEO:-28.398408;151.287909
LOCATION:Artunga\, LOT 1 Omanama Cobba-Da-Mana Rd\, Oman Ama\, QLD\, 4352\, 
 Australia
END:VEVENT
END:VCALENDAR
