BEGIN:VCALENDAR
VERSION:2.0
PRODID:-//Squarespace Inc/Squarespace 6//v6//EN
BEGIN:VEVENT
UID:56fe11d001dbaeebf2790c77@squarespace.com
DTSTAMP:20160403T000627Z
DTSTART:20151211T233000Z
DTEND:20151212T040000Z
SUMMARY:2015 Christmas Gathering
END:VEVENT
END:VCALENDAR
