BEGIN:VCALENDAR
VERSION:2.0
PRODID:-//Squarespace Inc/Squarespace 6//v6//EN
BEGIN:VEVENT
UID:56fe70ea356fb0f9804d595e@squarespace.com
DTSTAMP:20160708T051930Z
DTSTART:20160518T130000Z
DTEND:20160519T160000Z
SUMMARY:Movement Workshop
GEO:-28.522088;151.4799
LOCATION:Terrica Woolshed\, Terrica Road\, Terrica\, QLD\, 4387\, Australia
END:VEVENT
END:VCALENDAR
