BEGIN:VCALENDAR
VERSION:2.0
PRODID:-//Squarespace Inc/Squarespace 6//v6//EN
BEGIN:VEVENT
UID:57803f8c37c581c34c6d8a7e@squarespace.com
DTSTAMP:20160807T004130Z
DTSTART:20160819T183000Z
DTEND:20160819T220000Z
SUMMARY:2016 ANNUAL GENERAL MEETING
GEO:-28.510672;151.464358
LOCATION:Terrica Woolshed\, 500 Terrica Rd\, Terrica\, QLD\, 4387\, Austral
 ia
END:VEVENT
END:VCALENDAR
