BEGIN:VCALENDAR
VERSION:2.0
PRODID:-//Squarespace Inc/Squarespace 6//v6//EN
BEGIN:VEVENT
UID:58fbc275725e25a3d193355d@squarespace.com
DTSTAMP:20170609T014500Z
DTSTART:20170616T130000Z
DTEND:20170616T190000Z
SUMMARY:BULL SELECTION DAY
GEO:-28.468681;151.541896
LOCATION:Spring Creek\, 1407 Spring Creek Road\, Cement Mills\, QLD\, 4352\
 , Australia
END:VEVENT
END:VCALENDAR
