BEGIN:VCALENDAR
VERSION:2.0
PRODID:-//Squarespace Inc/Squarespace 6//v6//EN
BEGIN:VEVENT
UID:597537aeb3db2b4e8b02fd12@squarespace.com
DTSTAMP:20170724T003558Z
DTSTART:20170922T130000Z
DTEND:20170922T190000Z
SUMMARY:MIND\, BODY & HEART CONNECTION DAY
GEO:-28.513427;151.461027
LOCATION:Terrica Woolshed\, 500 Terrica Road\, Terrica\, QLD\, 4387\, Austr
 alia
END:VEVENT
END:VCALENDAR
