BEGIN:VCALENDAR
VERSION:2.0
PRODID:-//Squarespace Inc/Squarespace 6//v6//EN
BEGIN:VEVENT
UID:5bc8476c0d9297bc1f2ba6c7@squarespace.com
DTSTAMP:20190311T101749Z
DTSTART:20181112T150000Z
DTEND:20181112T190000Z
SUMMARY:WOOL TALK
GEO:-28.398429;151.479288
LOCATION:Cement Mills Community Hall\, Cement Mills Road\, Cement Mills\, Q
 LD\, 4352\, Australia
END:VEVENT
END:VCALENDAR
