BEGIN:VCALENDAR
VERSION:2.0
PRODID:-//Squarespace Inc/Squarespace 6//v6//EN
BEGIN:VEVENT
UID:5b4ffb1e2b6a2853e2c1e5a6@squarespace.com
DTSTAMP:20180826T071009Z
DTSTART:20180830T130000Z
DTEND:20180830T170000Z
SUMMARY:2018 TRAPROCK GROUP ANNUAL GENERAL MEETING
GEO:-28.513427;151.461027
LOCATION:500 Terrica Road\, Terrica\, QLD\, 4387\, Australia
END:VEVENT
END:VCALENDAR
