BEGIN:VCALENDAR
VERSION:2.0
PRODID:-//Squarespace Inc/Squarespace 6//v6//EN
BEGIN:VEVENT
UID:5d788e08511e5f22e222add8@squarespace.com
DTSTAMP:20191103T014440Z
DTSTART:20191213T210000Z
DTEND:20191214T030000Z
SUMMARY:Traprock Xmas Party
END:VEVENT
END:VCALENDAR
