BEGIN:VCALENDAR
VERSION:2.0
PRODID:-//Squarespace Inc/Squarespace 6//v6//EN
BEGIN:VEVENT
UID:5c8633e90d9297e183ca95b2@squarespace.com
DTSTAMP:20190313T102834Z
DTSTART:20190319T130000Z
DTEND:20190319T160000Z
SUMMARY:'Using Graslan Pellets in the Traprock' Information Session
GEO:-28.35789;151.418685
LOCATION:'Dunblane' Shearing Shed\, 20901 Cunningham Highway\, GORE QLD 435
 2\, GORE\, Australia
END:VEVENT
END:VCALENDAR
