BEGIN:VCALENDAR
VERSION:2.0
PRODID:-//Squarespace Inc/Squarespace 6//v6//EN
BEGIN:VEVENT
UID:5d06f05e498dca0001e2e48c@squarespace.com
DTSTAMP:20190911T054853Z
DTSTART:20190830T180000Z
DTEND:20190830T200000Z
SUMMARY:2019 Traprock AGM
GEO:-28.513427;151.461027
LOCATION:Terrica Wool shed\, 500 Terrica Road\, Inglewood\, Australia
END:VEVENT
END:VCALENDAR
